BEGIN:VCALENDAR
VERSION:2.0
PRODID:-//Squarespace Inc/Squarespace 6//v6//EN
BEGIN:VEVENT
UID:5f768d532a0b817c352a3f61@squarespace.com
DTSTAMP:20201028T215636Z
DTSTART:20201021T193000Z
DTEND:20201230T210000Z
SUMMARY:ACC Risk - recording
END:VEVENT
END:VCALENDAR
