BEGIN:VCALENDAR
VERSION:2.0
PRODID:-//Squarespace Inc/Squarespace 6//v6//EN
BEGIN:VEVENT
UID:5f76609414406a547339c115@squarespace.com
DTSTAMP:20201028T224404Z
DTSTART:20201028T193000Z
DTEND:20201231T090000Z
SUMMARY:HR Matters - recording
END:VEVENT
END:VCALENDAR
