BEGIN:VCALENDAR
VERSION:2.0
PRODID:-//Squarespace Inc/Squarespace 6//v6//EN
BEGIN:VEVENT
UID:5f765fe2e9886e783284d3fc@squarespace.com
DTSTAMP:20201010T030722Z
DTSTART:20201111T193000Z
DTEND:20201111T210000Z
SUMMARY:Business Continuity Planning
END:VEVENT
END:VCALENDAR
