BEGIN:VCALENDAR
VERSION:2.0
PRODID:-//Squarespace Inc/Squarespace 6//v6//EN
BEGIN:VEVENT
UID:5f74460d3634191d61efced7@squarespace.com
DTSTAMP:20201028T215613Z
DTSTART:20201014T193000Z
DTEND:20201230T210000Z
SUMMARY:Totika - recording
GEO:-40.900557;174.885971
LOCATION:New Zealand
END:VEVENT
END:VCALENDAR
