BEGIN:VCALENDAR
VERSION:2.0
PRODID:-//Squarespace Inc/Squarespace 6//v6//EN
BEGIN:VEVENT
UID:5f7445f986b8a52f3f70c7c0@squarespace.com
DTSTAMP:20201010T025847Z
DTSTART:20201104T193000Z
DTEND:20201104T210000Z
SUMMARY:ACC Claims and Experience Rating
END:VEVENT
END:VCALENDAR
